BEGIN:VCALENDAR
VERSION:2.0
PRODID:-//8-Bit Classics - ECPv6.15.20//NONSGML v1.0//EN
CALSCALE:GREGORIAN
METHOD:PUBLISH
X-WR-CALNAME:8-Bit Classics
X-ORIGINAL-URL:https://www.8bitclassics.com
X-WR-CALDESC:Events for 8-Bit Classics
REFRESH-INTERVAL;VALUE=DURATION:PT1H
X-Robots-Tag:noindex
X-PUBLISHED-TTL:PT1H
BEGIN:VTIMEZONE
TZID:America/Chicago
BEGIN:DAYLIGHT
TZOFFSETFROM:-0600
TZOFFSETTO:-0500
TZNAME:CDT
DTSTART:20250309T080000
END:DAYLIGHT
BEGIN:STANDARD
TZOFFSETFROM:-0500
TZOFFSETTO:-0600
TZNAME:CST
DTSTART:20251102T070000
END:STANDARD
BEGIN:DAYLIGHT
TZOFFSETFROM:-0600
TZOFFSETTO:-0500
TZNAME:CDT
DTSTART:20260308T080000
END:DAYLIGHT
BEGIN:STANDARD
TZOFFSETFROM:-0500
TZOFFSETTO:-0600
TZNAME:CST
DTSTART:20261101T070000
END:STANDARD
BEGIN:DAYLIGHT
TZOFFSETFROM:-0600
TZOFFSETTO:-0500
TZNAME:CDT
DTSTART:20270314T080000
END:DAYLIGHT
BEGIN:STANDARD
TZOFFSETFROM:-0500
TZOFFSETTO:-0600
TZNAME:CST
DTSTART:20271107T070000
END:STANDARD
BEGIN:DAYLIGHT
TZOFFSETFROM:-0600
TZOFFSETTO:-0500
TZNAME:CDT
DTSTART:20280312T080000
END:DAYLIGHT
BEGIN:STANDARD
TZOFFSETFROM:-0500
TZOFFSETTO:-0600
TZNAME:CST
DTSTART:20281105T070000
END:STANDARD
BEGIN:DAYLIGHT
TZOFFSETFROM:-0600
TZOFFSETTO:-0500
TZNAME:CDT
DTSTART:20290311T080000
END:DAYLIGHT
BEGIN:STANDARD
TZOFFSETFROM:-0500
TZOFFSETTO:-0600
TZNAME:CST
DTSTART:20291104T070000
END:STANDARD
END:VTIMEZONE
BEGIN:VEVENT
DTSTART;VALUE=DATE:20261024
DTEND;VALUE=DATE:20261026
DTSTAMP:20260421T233208
CREATED:20260422T024041Z
LAST-MODIFIED:20260422T024041Z
UID:10000164-1792800000-1792972799@www.8bitclassics.com
SUMMARY:AmieWest 2026
DESCRIPTION:https://amiwest.net/
URL:https://www.8bitclassics.com/event/amiewest-2026/
LOCATION:Holiday Inn Express & Suites Sacramento NE Cal Expo by IHG\, 2224 Auburn Blvd\, Sacramento\, CA\, United States
CATEGORIES:Retro Gaming/Computer Events
GEO:38.624913;-121.414172
X-APPLE-STRUCTURED-LOCATION;VALUE=URI;X-ADDRESS=Holiday Inn Express & Suites Sacramento NE Cal Expo by IHG 2224 Auburn Blvd Sacramento CA United States;X-APPLE-RADIUS=500;X-TITLE=2224 Auburn Blvd:geo:-121.414172,38.624913
END:VEVENT
BEGIN:VEVENT
DTSTART;VALUE=DATE:20261107
DTEND;VALUE=DATE:20261109
DTSTAMP:20260421T233208
CREATED:20260422T024044Z
LAST-MODIFIED:20260422T024044Z
UID:10000165-1794009600-1794182399@www.8bitclassics.com
SUMMARY:VCF Montreal 2026
DESCRIPTION:https://cvcfed.org/
URL:https://www.8bitclassics.com/event/vcf-montreal-2026/
LOCATION:Champlain College Saint-Lambert\, 900 Rue Riverside\, Saint-Lambert\, QC J4P 3P2\, Canada
CATEGORIES:Retro Gaming/Computer Events
END:VEVENT
BEGIN:VEVENT
DTSTART;VALUE=DATE:20270403
DTEND;VALUE=DATE:20270404
DTSTAMP:20260421T233208
CREATED:20250403T152915Z
LAST-MODIFIED:20260422T024046Z
UID:10000144-1806710400-1806796799@www.8bitclassics.com
SUMMARY:Atari's National Pac-Man Day
DESCRIPTION:
URL:https://www.8bitclassics.com/event/ataris-national-pac-man-day-9/
LOCATION:WI
CATEGORIES:Retro Gaming/Computer Events
END:VEVENT
BEGIN:VEVENT
DTSTART;VALUE=DATE:20270723
DTEND;VALUE=DATE:20270724
DTSTAMP:20260421T233208
CREATED:20250725T020007Z
LAST-MODIFIED:20260422T024048Z
UID:10000147-1816300800-1816387199@www.8bitclassics.com
SUMMARY:Amiga Birthday (1985)
DESCRIPTION:
URL:https://www.8bitclassics.com/event/amiga-birthday-1985-2/
LOCATION:WI
CATEGORIES:Retro Gaming/Computer Events
END:VEVENT
BEGIN:VEVENT
DTSTART;VALUE=DATE:20280403
DTEND;VALUE=DATE:20280404
DTSTAMP:20260421T233208
CREATED:20260403T220716Z
LAST-MODIFIED:20260422T024050Z
UID:10000161-1838332800-1838419199@www.8bitclassics.com
SUMMARY:Atari's National Pac-Man Day
DESCRIPTION:
URL:https://www.8bitclassics.com/event/ataris-national-pac-man-day-10/
LOCATION:WI
CATEGORIES:Retro Gaming/Computer Events
END:VEVENT
END:VCALENDAR